BEGIN:VCALENDAR
PRODID://WordPress//Event-Post-V5.9.2//EN
VERSION:2.0
BEGIN:VTIMEZONE
TZID:Europe/Ljubljana
BEGIN:DAYLIGHT
TZOFFSETFROM:+0100
TZOFFSETTO:+0200
DTSTART:19700329T020000
RRULE:FREQ=YEARLY;BYDAY=-1SU;BYMONTH=3
END:DAYLIGHT
BEGIN:STANDARD
TZOFFSETFROM:+0200
TZOFFSETTO:+0100
TZNAME:CET
DTSTART:19701025T030000
RRULE:FREQ=YEARLY;BYDAY=-1SU;BYMONTH=10
END:STANDARD
END:VTIMEZONE
BEGIN:VEVENT
SUMMARY:Vaza z negativnim prostorom
UID:https://artyparty.si/izdelek/vaza-z-negativnim-prostorom/
LOCATION:
DTSTAMP:20260506T173000
DTSTART;TZID=Europe/Ljubljana:20260506T173000
DTEND;TZID=Europe/Ljubljana:20260506T200000
DESCRIPTION:Pomlad je in vse cveti. Čas za novo, osupljivo vazo.
Kozarček, dva ali trije so na nas. Čin čin!
END:VEVENT
END:VCALENDAR